BEGIN:VCALENDAR
VERSION:2.0
PRODID:-//Lean Into Jesus - ECPv6.15.19//NONSGML v1.0//EN
CALSCALE:GREGORIAN
METHOD:PUBLISH
X-WR-CALNAME:Lean Into Jesus
X-ORIGINAL-URL:https://leanintojesus.com
X-WR-CALDESC:Events for Lean Into Jesus
REFRESH-INTERVAL;VALUE=DURATION:PT1H
X-Robots-Tag:noindex
X-PUBLISHED-TTL:PT1H
BEGIN:VTIMEZONE
TZID:America/New_York
BEGIN:DAYLIGHT
TZOFFSETFROM:-0500
TZOFFSETTO:-0400
TZNAME:EDT
DTSTART:20120311T070000
END:DAYLIGHT
BEGIN:STANDARD
TZOFFSETFROM:-0400
TZOFFSETTO:-0500
TZNAME:EST
DTSTART:20121104T060000
END:STANDARD
BEGIN:DAYLIGHT
TZOFFSETFROM:-0500
TZOFFSETTO:-0400
TZNAME:EDT
DTSTART:20130310T070000
END:DAYLIGHT
BEGIN:STANDARD
TZOFFSETFROM:-0400
TZOFFSETTO:-0500
TZNAME:EST
DTSTART:20131103T060000
END:STANDARD
BEGIN:DAYLIGHT
TZOFFSETFROM:-0500
TZOFFSETTO:-0400
TZNAME:EDT
DTSTART:20140309T070000
END:DAYLIGHT
BEGIN:STANDARD
TZOFFSETFROM:-0400
TZOFFSETTO:-0500
TZNAME:EST
DTSTART:20141102T060000
END:STANDARD
BEGIN:DAYLIGHT
TZOFFSETFROM:-0500
TZOFFSETTO:-0400
TZNAME:EDT
DTSTART:20150308T070000
END:DAYLIGHT
BEGIN:STANDARD
TZOFFSETFROM:-0400
TZOFFSETTO:-0500
TZNAME:EST
DTSTART:20151101T060000
END:STANDARD
BEGIN:DAYLIGHT
TZOFFSETFROM:-0500
TZOFFSETTO:-0400
TZNAME:EDT
DTSTART:20160313T070000
END:DAYLIGHT
BEGIN:STANDARD
TZOFFSETFROM:-0400
TZOFFSETTO:-0500
TZNAME:EST
DTSTART:20161106T060000
END:STANDARD
BEGIN:DAYLIGHT
TZOFFSETFROM:-0500
TZOFFSETTO:-0400
TZNAME:EDT
DTSTART:20170312T070000
END:DAYLIGHT
BEGIN:STANDARD
TZOFFSETFROM:-0400
TZOFFSETTO:-0500
TZNAME:EST
DTSTART:20171105T060000
END:STANDARD
BEGIN:DAYLIGHT
TZOFFSETFROM:-0500
TZOFFSETTO:-0400
TZNAME:EDT
DTSTART:20180311T070000
END:DAYLIGHT
BEGIN:STANDARD
TZOFFSETFROM:-0400
TZOFFSETTO:-0500
TZNAME:EST
DTSTART:20181104T060000
END:STANDARD
BEGIN:DAYLIGHT
TZOFFSETFROM:-0500
TZOFFSETTO:-0400
TZNAME:EDT
DTSTART:20190310T070000
END:DAYLIGHT
BEGIN:STANDARD
TZOFFSETFROM:-0400
TZOFFSETTO:-0500
TZNAME:EST
DTSTART:20191103T060000
END:STANDARD
BEGIN:DAYLIGHT
TZOFFSETFROM:-0500
TZOFFSETTO:-0400
TZNAME:EDT
DTSTART:20200308T070000
END:DAYLIGHT
BEGIN:STANDARD
TZOFFSETFROM:-0400
TZOFFSETTO:-0500
TZNAME:EST
DTSTART:20201101T060000
END:STANDARD
BEGIN:DAYLIGHT
TZOFFSETFROM:-0500
TZOFFSETTO:-0400
TZNAME:EDT
DTSTART:20210314T070000
END:DAYLIGHT
BEGIN:STANDARD
TZOFFSETFROM:-0400
TZOFFSETTO:-0500
TZNAME:EST
DTSTART:20211107T060000
END:STANDARD
BEGIN:DAYLIGHT
TZOFFSETFROM:-0500
TZOFFSETTO:-0400
TZNAME:EDT
DTSTART:20220313T070000
END:DAYLIGHT
BEGIN:STANDARD
TZOFFSETFROM:-0400
TZOFFSETTO:-0500
TZNAME:EST
DTSTART:20221106T060000
END:STANDARD
BEGIN:DAYLIGHT
TZOFFSETFROM:-0500
TZOFFSETTO:-0400
TZNAME:EDT
DTSTART:20230312T070000
END:DAYLIGHT
BEGIN:STANDARD
TZOFFSETFROM:-0400
TZOFFSETTO:-0500
TZNAME:EST
DTSTART:20231105T060000
END:STANDARD
BEGIN:DAYLIGHT
TZOFFSETFROM:-0500
TZOFFSETTO:-0400
TZNAME:EDT
DTSTART:20240310T070000
END:DAYLIGHT
BEGIN:STANDARD
TZOFFSETFROM:-0400
TZOFFSETTO:-0500
TZNAME:EST
DTSTART:20241103T060000
END:STANDARD
BEGIN:DAYLIGHT
TZOFFSETFROM:-0500
TZOFFSETTO:-0400
TZNAME:EDT
DTSTART:20250309T070000
END:DAYLIGHT
BEGIN:STANDARD
TZOFFSETFROM:-0400
TZOFFSETTO:-0500
TZNAME:EST
DTSTART:20251102T060000
END:STANDARD
BEGIN:DAYLIGHT
TZOFFSETFROM:-0500
TZOFFSETTO:-0400
TZNAME:EDT
DTSTART:20260308T070000
END:DAYLIGHT
BEGIN:STANDARD
TZOFFSETFROM:-0400
TZOFFSETTO:-0500
TZNAME:EST
DTSTART:20261101T060000
END:STANDARD
BEGIN:DAYLIGHT
TZOFFSETFROM:-0500
TZOFFSETTO:-0400
TZNAME:EDT
DTSTART:20270314T070000
END:DAYLIGHT
BEGIN:STANDARD
TZOFFSETFROM:-0400
TZOFFSETTO:-0500
TZNAME:EST
DTSTART:20271107T060000
END:STANDARD
END:VTIMEZONE
BEGIN:VTIMEZONE
TZID:America/Chicago
BEGIN:DAYLIGHT
TZOFFSETFROM:-0600
TZOFFSETTO:-0500
TZNAME:CDT
DTSTART:20170312T080000
END:DAYLIGHT
BEGIN:STANDARD
TZOFFSETFROM:-0500
TZOFFSETTO:-0600
TZNAME:CST
DTSTART:20171105T070000
END:STANDARD
BEGIN:DAYLIGHT
TZOFFSETFROM:-0600
TZOFFSETTO:-0500
TZNAME:CDT
DTSTART:20180311T080000
END:DAYLIGHT
BEGIN:STANDARD
TZOFFSETFROM:-0500
TZOFFSETTO:-0600
TZNAME:CST
DTSTART:20181104T070000
END:STANDARD
BEGIN:DAYLIGHT
TZOFFSETFROM:-0600
TZOFFSETTO:-0500
TZNAME:CDT
DTSTART:20190310T080000
END:DAYLIGHT
BEGIN:STANDARD
TZOFFSETFROM:-0500
TZOFFSETTO:-0600
TZNAME:CST
DTSTART:20191103T070000
END:STANDARD
END:VTIMEZONE
BEGIN:VEVENT
DTSTART;TZID=America/New_York:20260207T090000
DTEND;TZID=America/New_York:20260207T150000
DTSTAMP:20260423T025653
CREATED:20250729T110008Z
LAST-MODIFIED:20251107T215259Z
UID:6233-1770454800-1770476400@leanintojesus.com
SUMMARY:EVEN IF
DESCRIPTION:Find hope and encouragement at the EVEN IF Women’s Conference. Join us on February 7 at 9:00 a.m. at the Marshall County RSVP Conference Center for a day of uplifting worship\, inspiring stories\, and genuine fellowship. Tickets are $35 and include lunch. The EVEN IF Women’s Conference—because faith endures\, even if life gets tough.
URL:https://leanintojesus.com/event/even-if/
LOCATION:Marshall County RSVP\, 19272 US 431\, Guntersville\, AL\, 35976\, United States
CATEGORIES:Conference
ATTACH;FMTTYPE=image/png:https://leanintojesus.com/wp-content/uploads/2025/07/even-if-square-logo.png
END:VEVENT
BEGIN:VEVENT
DTSTART;TZID=America/New_York:20250215T090000
DTEND;TZID=America/New_York:20250215T150000
DTSTAMP:20260423T025653
CREATED:20241111T171547Z
LAST-MODIFIED:20250210T143857Z
UID:5904-1739610000-1739631600@leanintojesus.com
SUMMARY:STILL
DESCRIPTION:**THIS EVENT IS NOW SOLD OUT** \nDo you long to experience profound peace? Is the world’s swirl of chaos threatening to pull you under? If your soul longs to rise above all the noise\, we invite you to join us\, the Lean into Jesus team\, as we endeavor to STILL our hearts in the presence of Jesus\, the Prince of Peace. \n“STILL” Women’s Conference\nSaturday\, February 15\, 2025\n9:00 AM – 3:00 PM (CST) \nMarshall County RSVP Conference Center\n19272 U.S. 431\nGuntersville\, AL 35976 \nOur friends from Amplify will assist us in worship as we honor and thank the only One who can calm our storms. \nLaura Ford\, Marsha Thompson\, Kasey Kearce\, and Kendall Patterson are set to offer proof of God’s willingness and power to faithfully work in and through our times of stillness. \nSpecial music and dramas from the Lean into Jesus team will refresh our faith journeys. \nLocated in beautiful Guntersville\, Alabama\, our venue offers a serene and inviting atmosphere\, perfect for reflection and Christian fellowship. The ticket price\, including lunch\, is $35. \nWhether you’re seeking spiritual growth\, a time of refreshment\, or more information about a relationship with Jesus Christ\, the STILL conference is designed to meet your needs. It promises an opportunity to experience all this and more. \nNEW THIS YEAR: CONFERENCE TEE SHIRTS!\nPRE-ORDER WITH “ADD ON” TICKET AT CHECK OUT.\n$20 EACH; SIZES RANGE FROM SMALL TO 4XL.\nYour tee shirt will be a wonderful reminder of the conference and our Lord’s ability to calm the storms in your life.\nMark your calendars\, gather your friends\, and join us as we still our hearts before God and allow Him to calm the storms that rage in and around us. We look forward to seeing you at STILL! \nLean into Jesus Ministries \n“And he awoke and rebuked the wind and said to the sea\, “Peace! Be still!” And the wind ceased\, and there was a great calm.” Mark 4:39
URL:https://leanintojesus.com/event/still/
LOCATION:Marshall County RSVP\, 19272 US 431\, Guntersville\, AL\, 35976\, United States
ATTACH;FMTTYPE=image/jpeg:https://leanintojesus.com/wp-content/uploads/2024/11/still.jpg
END:VEVENT
BEGIN:VEVENT
DTSTART;TZID=America/New_York:20240727T090000
DTEND;TZID=America/New_York:20240727T110000
DTSTAMP:20260423T025653
CREATED:20240707T210247Z
LAST-MODIFIED:20240707T210247Z
UID:5722-1722070800-1722078000@leanintojesus.com
SUMMARY:Proactive Personal Defense
DESCRIPTION:This free\, two-hour seminar is not just about safety; it’s about empowerment. It equips attendees with the knowledge to confidently take control of their personal defense\, regardless of age or ability. It will help participants gain the insights needed to make informed decisions and proactively safeguard themselves.\n\nOur speaker\, Chance King\, is a former Army officer with combat experience in Iraq. Passionate about empowering individuals to take charge of their personal defense\, Chance is also a devoted family man and follower of Christ. Married to his college sweetheart for over 17 years\, they raise four children on their small farm in Hazel Green\, AL. In his spare time\, Chance enjoys strength training\, conditioning\, and ice hockey.\n\nGet your free ticket at https://leanintojesusministries.ticketspice.com/proactive-personal-defense
URL:https://leanintojesus.com/event/proactive-personal-defense/
LOCATION:LifePoint Church\, 700 Motley Street\, Albertville\, AL\, 35950\, United States
CATEGORIES:Conference
ATTACH;FMTTYPE=image/png:https://leanintojesus.com/wp-content/uploads/2024/07/Facebook-Event-with-logo.png
END:VEVENT
BEGIN:VEVENT
DTSTART;TZID=America/New_York:20240203T090000
DTEND;TZID=America/New_York:20240203T090000
DTSTAMP:20260423T025653
CREATED:20231024T215641Z
LAST-MODIFIED:20241111T172719Z
UID:5246-1706950800-1706950800@leanintojesus.com
SUMMARY:Redeemed
DESCRIPTION:Get ready to experience and celebrate the freedom and joy of true redemption found only in Jesus Christ! Make plans to join us for Redeemed\, the 2024 Lean into Jesus Ministries’ winter conference! Prepare to be encouraged and inspired as we celebrate the difference a relationship with Jesus Christ makes in our lives. \nDate: Saturday\, February 3\, 2024 \nTime: 9:00 AM – 3:00 PM (Central Standard Time)  \nLocation: Marshall County RSVP\, 19272 U.S. 431\, Guntersville\, AL 35976 \nYou will experience a day filled with powerful messages\, engaging worship\, and sweet fellowship at Redeemed. Speakers Missy Burks\, Theresa Lindsay\, and Jocelynn Edmonds will share personal redemption stories and encourage you in your walk with Christ. Amplify will lead worship; the Lean into Jesus team will provide beautiful vocals and touching dramatic presentations. \nWhether you’re seeking personal growth\, spiritual refreshment\, or more information about a relationship with Jesus Christ\, Redeemed has something for you. \nLocated in beautiful Guntersville\, Alabama\, our venue offers a serene and inviting atmosphere\, perfect for reflection and sweet fellowship. \nWe want your day to be perfect! Here are a few things you might need to know: \n*Casual attire is recommended. We encourage you to dress comfortably and in layers. \n*The ticket price includes lunch. If you have special dietary needs\, please consider bringing your lunch.\n*Overflow parking will be at the County Park next to the venue. Lean into Jesus Ministries will provide a shuttle to and from the overflow parking lot.\n*The last date for refunds is January 15\, 2024.\n*When paying by check\, please make your check payable to “Lean into Jesus Ministries\,” note the registering name and number of tickets on the memo line. Mail your check to Lean into Jesus Ministries\, 8011 AL Highway 79 South\, Guntersville\, AL 35976. \nIf you have questions\, please get in touch with us by email (charlene@leanintojesus.com) or telephone (256)738-3430. \n 
URL:https://leanintojesus.com/event/redeemed/
LOCATION:Marshall County RSVP\, 19272 US 431\, Guntersville\, AL\, 35976\, United States
CATEGORIES:Conference
ATTACH;FMTTYPE=image/png:https://leanintojesus.com/wp-content/uploads/2023/10/Redeemed-logo-with-photo.1.png
END:VEVENT
BEGIN:VEVENT
DTSTART;TZID=America/New_York:20230819T081500
DTEND;TZID=America/New_York:20230819T120000
DTSTAMP:20260423T025653
CREATED:20230119T113423Z
LAST-MODIFIED:20230119T113423Z
UID:4557-1692432900-1692446400@leanintojesus.com
SUMMARY:Seeking God's Fire Bible Study
DESCRIPTION:Do you long to experience God in an extraordinary way? Explore with us what the Bible teaches us about God’s consuming fire. \nJoin Lean into Jesus Ministries as we dive into three old testament scriptures and learn more about God’s fire. \nThis half-day Bible study includes excellent Biblical instruction\, Spirit-filled worship\, and sweet fellowship with sisters in Christ. Bible study leaders for the day will be: \n\nDonna Jackson – 1 Chronicles 21:26 (David)\nRebekah Marsh – 2 Chronicles 7:1 (Solomon)\nShirley Chupp – 1 Kings 18:38 (Elijah)\n\nPrepare your heart to experience our Lord God as He demonstrates His power in His acceptance of the sacrifices of Old Testament leaders through His consuming fire. \nDoors open at 7:45 AM. The program begins at 8:15 and concludes at noon. Tickets are $10.
URL:https://leanintojesus.com/event/seeking-gods-fire-bible-study/
LOCATION:Creek Path Baptist Church\, 1001 Browns Valley Road\, Guntersville\, 35976\, United States
CATEGORIES:Conference
ATTACH;FMTTYPE=image/png:https://leanintojesus.com/wp-content/uploads/2023/01/Seeking-Gods-Fire-logo.png
END:VEVENT
BEGIN:VEVENT
DTSTART;TZID=America/New_York:20230204T090000
DTEND;TZID=America/New_York:20230204T150000
DTSTAMP:20260423T025653
CREATED:20221018T011007Z
LAST-MODIFIED:20221018T011007Z
UID:4442-1675501200-1675522800@leanintojesus.com
SUMMARY:Surrendered in Christ
DESCRIPTION:How do Christian women juggle countless life challenges with confidence and peace? There is only one way. Surrender in Christ! \nJoin Lean into Jesus Ministries on February 4\, 2023\, for our annual women’s conference and begin your journey to peace through surrender in Christ. Experience a day of worship\, fellowship\, testimonies\, and drama designed to point you to the solution to every problem in your life: Jesus Christ. \nWe are excited to welcome our friends\, AMPLIFY\, back to lead us in dynamic\, Spirit-filled worship. The testimonies of our speakers\, Dana Hill (Sardis\, Alabama)\, Belinda Black & Laurie Bishop (Tupelo\, Mississippi)\, and Vicki Mann (Guntersville\, Alabama)\, will challenge and bless you. The Lean into Jesus team will provide additional vocals and drama and host you for the day.  \nDon’t miss this opportunity to draw closer to God and discover sweet victory in surrender. Seating is limited; secure your tickets soon! The ticket price of $35 includes lunch. \n“Those who know Your name trust in You” (Psalm 9:10)
URL:https://leanintojesus.com/event/surrendered-in-christ/
LOCATION:Marshall County RSVP\, 19272 US 431\, Guntersville\, AL\, 35976\, United States
CATEGORIES:Conference
ATTACH;FMTTYPE=image/png:https://leanintojesus.com/wp-content/uploads/2022/10/Surrender-Conference-Logo.png
END:VEVENT
BEGIN:VEVENT
DTSTART;TZID=America/New_York:20220205T090000
DTEND;TZID=America/New_York:20220205T090000
DTSTAMP:20260423T025653
CREATED:20210603T211829Z
LAST-MODIFIED:20210807T021959Z
UID:3525-1644051600-1644051600@leanintojesus.com
SUMMARY:More!
DESCRIPTION:If you are more than ready to gather with sisters in Christ and grow in your relationship with our Savior\, this conference is for you! Enjoy worship\, speakers\, drama\, and sweet fellowship at Lean into Jesus Ministries’ conference “More!”  \nAfter everything we experienced the last year and a half\, God’s timing for this day of celebrating Jesus and all that He has for us will be a special treat.  \nGuntersville Town Hall doors open at 8:30 AM\, worship begins at 9:00. The registration fee of $25 includes lunch. Seating is limited.  Secure your ticket today!
URL:https://leanintojesus.com/event/do-you-long-for-more-gather-your-friends-and-join-lean-into-jesus-ministries-2021-conference-more-for-a-day-of-spiritual-growth-and-celebration/
LOCATION:Guntersville Town Hall\, 340 Blount Avenue\, Guntersville\, AL\, 35976\, United States
ATTACH;FMTTYPE=image/png:https://leanintojesus.com/wp-content/uploads/2021/06/More-Conference-Logo.1.png
END:VEVENT
BEGIN:VEVENT
DTSTART;TZID=America/New_York:20200201T090000
DTEND;TZID=America/New_York:20200201T150000
DTSTAMP:20260423T025653
CREATED:20190805T012657Z
LAST-MODIFIED:20200621T230213Z
UID:2007-1580547600-1580569200@leanintojesus.com
SUMMARY:Willing
DESCRIPTION:Lean into Jesus Ministries will host its annual women’s conference titled “Willing” on February 1\, 2020\, at Guntersville Town Hall. Praise team Amplify will lead worship with additional worship sets by Lean into Jesus Ministries teammates. Speakers will share testimonies and challenge guests to seek Jesus and obey His commands (Mark 1:40-45). The Lean into Jesus team will present an original drama that will inspire you and challenge your heart. \nThis year’s conference will feature new twists you do not want to miss. Guests will have the opportunity to ask questions of speakers to gain additional insight into their journey with Jesus. Worship\, prayer\, fellowship\, and fun will make this conference one you will remember. Lunch and refreshments included in the ticket price of $25. \nJoin the Lean into Jesus Ministry team and explore ways to seek and follow Jesus more effectively. Are you “willing?”
URL:https://leanintojesus.com/event/willing/
LOCATION:Guntersville Town Hall\, 340 Blount Avenue\, Guntersville\, AL\, 35976\, United States
ATTACH;FMTTYPE=image/png:https://leanintojesus.com/wp-content/uploads/2019/08/Willing-logo.1-3.png
END:VEVENT
BEGIN:VEVENT
DTSTART;TZID=America/New_York:20190202T090000
DTEND;TZID=America/New_York:20190202T150000
DTSTAMP:20260423T025653
CREATED:20180728T134143Z
LAST-MODIFIED:20180729T012109Z
UID:1426-1549098000-1549119600@leanintojesus.com
SUMMARY:Trust God Women's Conference
DESCRIPTION:Good news! If you are feeling overwhelmed with the difficulties of life\, this conference is for you! Experiencing God through worship\, testimonies\, drama\, and fellowship at the “Trust God” women’s event will revive your spirit and encourage your soul. \nOur Creator loves us deeply; we can trust Him completely. Isaiah 43:1-4 reminds us that we need not fear. We have been redeemed! God has called each of His children by name; we are His. He promises to be with us when we pass through the waters and rivers; we will NOT be overwhelmed. He promises we will not be scorched when we walk through fire! The flame will not burn us. He has ransomed each of His children. We are precious in His sight; honored and loved. \nDon’t miss this opportunity to renew your trust in our faithful and loving God. Lunch included in conference registration fee. Register today!
URL:https://leanintojesus.com/event/trust-god-womens-conference/
LOCATION:Guntersville Town Hall\, 340 Blount Avenue\, Guntersville\, AL\, 35976\, United States
ATTACH;FMTTYPE=image/jpeg:https://leanintojesus.com/wp-content/uploads/2018/07/Trust.3.jpg
END:VEVENT
BEGIN:VEVENT
DTSTART;TZID=America/Chicago:20180203T090000
DTEND;TZID=America/Chicago:20180203T150000
DTSTAMP:20260423T025653
CREATED:20171116T014516Z
LAST-MODIFIED:20171116T020918Z
UID:1095-1517648400-1517670000@leanintojesus.com
SUMMARY:Eternal Significance
DESCRIPTION:Lean into Jesus Ministries is an interdenominational discipleship ministry.  Through women’s conferences\, Bible studies\, and weekly devotions\, we encourage others to ‘lean in’ and get close to Jesus -truly close.  ‘Lean in’ to hear every whisper of His voice.  Draw near to experience the joy of His unconditional love.  ‘Lean in’ to share your heart with the One who knows you best and loves you most. Lean in…  Lean into Jesus.    “Draw near to God and He will draw near to you.” ~ James 4:8
URL:https://leanintojesus.com/event/eternal-significance/
LOCATION:Guntersville Town Hall\, 340 Blount Ave\, Guntersville\, AL\, 35976\, United States
ATTACH;FMTTYPE=image/jpeg:https://leanintojesus.com/wp-content/uploads/2017/11/39599199271-37399422-7.jpg
END:VEVENT
BEGIN:VEVENT
DTSTART;VALUE=DATE:20170204
DTEND;VALUE=DATE:20170205
DTSTAMP:20260423T025653
CREATED:20170621T185339Z
LAST-MODIFIED:20170816T002358Z
UID:619-1486166400-1486252799@leanintojesus.com
SUMMARY:Worthy
DESCRIPTION:“…But you were washed\, you were sanctified\, you were justified in the name of the Lord Jesus Christ and by the Spirit of our God.”\n1 Corinthians 6:11b\nSpeakers include:\nShelia Banks\, Shirley Chupp\, Brooke Davidson\, Rosalie Hunt\, and Dietrich Schaefer \nWorship lead by:\nKen Patterson and the Guntersville First Baptist Church Praise Team \nMusic special by:\nElishaba Larson \nDrama by:\nDr. David Chupp and Friends \nBe prepared for a day of wonderful worship\, amazing speakers\, and beautiful fellowship! Lean into Jesus Ministries 2017 Conference: Worthy!
URL:https://leanintojesus.com/event/worthy/
LOCATION:AL
ATTACH;FMTTYPE=image/jpeg:https://leanintojesus.com/wp-content/uploads/2017/06/shutterstock_256782193-red-coat-cropped.jpg
END:VEVENT
BEGIN:VEVENT
DTSTART;TZID=America/New_York:20160917T083000
DTEND;TZID=America/New_York:20160917T120000
DTSTAMP:20260423T025653
CREATED:20160917T184840Z
LAST-MODIFIED:20170816T002828Z
UID:616-1474101000-1474113600@leanintojesus.com
SUMMARY:"Here am I" ~ Hearing and Obeying God
DESCRIPTION:Women’s Bible Study\nSaturday\, September 17\, 2016 \nDoors open at 8:30\nProgram 9:00 until noon \nSession 1 – Samuel\nSession 2 – Moses and Abraham\nSession 3 – Isaiah \nEvent is FREE Dress Casually \nBring your Bible and a friend! \nNursery available for children up to 5 years of age. Please pre-register if you need childcare.
URL:https://leanintojesus.com/event/here-am-i-hearing-and-obeying-god/
LOCATION:Creek Path Baptist Church\, 1001 Browns Valley Road\, Guntersville\, 35976\, United States
ATTACH;FMTTYPE=image/png:https://leanintojesus.com/wp-content/uploads/2016/09/Poster-1.png
END:VEVENT
BEGIN:VEVENT
DTSTART;VALUE=DATE:20160206
DTEND;VALUE=DATE:20160207
DTSTAMP:20260423T025653
CREATED:20170621T184554Z
LAST-MODIFIED:20170816T004254Z
UID:614-1454716800-1454803199@leanintojesus.com
SUMMARY:Beyond the Veil
DESCRIPTION:Matthew 27:51 tells us of the tearing of the temple veil during the crucifixion of Jesus Christ. The “Beyond the Veil” conference offered attendees the opportunity to explore the meaning of the renting of the temple veil\, as well as identify the veils and masks that women so often wear to hide\, protect\, and conceal their hearts. Because of Jesus’ perfect sacrifice\, we are granted access to God the Father. That sacrifice provides us eternal freedom from the need for any veils and masks. Worship\, testimonies\, drama\, and fellowship encouraged our hearts at “Beyond the Veil.”
URL:https://leanintojesus.com/event/beyond-the-veil/
LOCATION:Guntersville Town Hall\, 340 Blount Avenue\, Guntersville\, AL\, 35976\, United States
ATTACH;FMTTYPE=image/png:https://leanintojesus.com/wp-content/uploads/2017/06/Beyond-the-Veil-logo-2-.png
END:VEVENT
BEGIN:VEVENT
DTSTART;VALUE=DATE:20150919
DTEND;VALUE=DATE:20150920
DTSTAMP:20260423T025653
CREATED:20170621T184504Z
LAST-MODIFIED:20170621T185139Z
UID:611-1442620800-1442707199@leanintojesus.com
SUMMARY:It's Jesus! Celebrating our Savior
DESCRIPTION:The “It’s Jesus\, Celebrating Our Savior” conference was dedicated to celebrating and worshipping Jesus Christ! Testimonies were shared by sisters in Christ about the saving grace and deliverance a relationship with Jesus had brought them. He is the Alpha\, the Omega\, the Beginning and the End\, the First and Last; He is our Wonderful Counselor\, Mighty God\, King of Kings and Lord of Lords — He is Jesus! This conference was a time of pure worship\, love\, and acknowledgement of Jesus as Lord of our lives.
URL:https://leanintojesus.com/event/its-jesus-celebrating-our-savior/
LOCATION:Guntersville Town Hall\, 340 Blount Avenue\, Guntersville\, AL\, 35976\, United States
ATTACH;FMTTYPE=image/png:https://leanintojesus.com/wp-content/uploads/2017/06/itsjesus.png
END:VEVENT
BEGIN:VEVENT
DTSTART;VALUE=DATE:20150131
DTEND;VALUE=DATE:20150201
DTSTAMP:20260423T025653
CREATED:20170621T184405Z
LAST-MODIFIED:20170621T184405Z
UID:607-1422662400-1422748799@leanintojesus.com
SUMMARY:Becoming\, Living God's Plan
DESCRIPTION:We are all in a constant state of “becoming.” As we journey through life on this side of Eternity\, we travel through many stages. The “Becoming” conference consisted of a day of testimonies\, drama\, and worship. We recognized that we are not what we have been or what we will be — we are becoming all that God has created us to be! God blessed us with fantastic worship times as well as personal reflection on how we seek to become the women God is calling us to be.
URL:https://leanintojesus.com/event/becoming-living-gods-plan/
LOCATION:Guntersville Town Hall\, 340 Blount Avenue\, Guntersville\, AL\, 35976\, United States
ATTACH;FMTTYPE=image/png:https://leanintojesus.com/wp-content/uploads/2017/06/becominglogo.png
END:VEVENT
BEGIN:VEVENT
DTSTART;VALUE=DATE:20141004
DTEND;VALUE=DATE:20141005
DTSTAMP:20260423T025653
CREATED:20170621T184157Z
LAST-MODIFIED:20170621T184157Z
UID:602-1412380800-1412467199@leanintojesus.com
SUMMARY:Hope\, Help\, Healing
DESCRIPTION:Life is hard; real hard. “Hope – Help – Healing” was an outreach ministry to encourage those who had been through difficult times. A variety of concurrent break-out sessions were offered to attendees to assist in navigating the hard times that are part of life this side of eternity. This conference focused on encouraging those who need it most. We worshipped together\, cried together\, and prayed for one another as we embraced this precious time with our sisters in Christ.
URL:https://leanintojesus.com/event/hope-help-healing/
LOCATION:Guntersville First United Methodist Church\, 539 Gunter Ave\, Guntersville\, AL\, 35976\, United States
ATTACH;FMTTYPE=image/png:https://leanintojesus.com/wp-content/uploads/2017/06/Hope-Help-Healing-Logo-300x294.png
END:VEVENT
BEGIN:VEVENT
DTSTART;VALUE=DATE:20140201
DTEND;VALUE=DATE:20140202
DTSTAMP:20260423T025653
CREATED:20170621T183055Z
LAST-MODIFIED:20170816T132017Z
UID:599-1391212800-1391299199@leanintojesus.com
SUMMARY:Come to the Well
DESCRIPTION:The story of the Samaritan Woman was the center piece of the “Come to the Well” conference. Our speakers walked us through her past\, her encounter with Jesus\, and her life after she met Jesus. How wonderful indeed that Jesus is the Living Water\, the Fountain of Life. He invites us all to “come\, drink freely!” Our guest speaker and drama team completed the day and further blessed our time together.
URL:https://leanintojesus.com/event/come-to-the-well/
LOCATION:Guntersville Senior Center\, 1500 Sunset Dr\, Guntersville\, AL\, 35976\, United States
ATTACH;FMTTYPE=image/jpeg:https://leanintojesus.com/wp-content/uploads/2017/06/come-to-the-well-2.jpg
END:VEVENT
BEGIN:VEVENT
DTSTART;VALUE=DATE:20130420
DTEND;VALUE=DATE:20130421
DTSTAMP:20260423T025653
CREATED:20170621T182342Z
LAST-MODIFIED:20170621T182342Z
UID:593-1366416000-1366502399@leanintojesus.com
SUMMARY:A Day in His Presence
DESCRIPTION:It is fitting that Lean into Jesus Ministries began with prayer. The first conference was a prayer vigil titled “A Day in His Presence.” Attendees walked through times of prayer for themselves and their families\, their churches\, communities\, state\, nation\, and world. The worship time was simple\, just a couple of worship leaders and a guitar. How beautiful to hear angelic voices praising God and lifting their prayer requests to him in unison. “A Day in His Presence” was the perfect beginning for Lean into Jesus Ministries!
URL:https://leanintojesus.com/event/a-day-in-his-presence/
LOCATION:The Glover\, 524 Gunter Ave\, Guntersville\, AL\, 35976\, United States
ATTACH;FMTTYPE=image/png:https://leanintojesus.com/wp-content/uploads/2017/06/presence-289x300.png
END:VEVENT
END:VCALENDAR